



BEGIN:VCALENDAR
VERSION:2.0
PRODID:-//wp-events-plugin.com//6.1.5//EN
TZID:Europe/Paris
X-WR-TIMEZONE:Europe/Paris
BEGIN:VEVENT
UID:218@w3.insp.upmc.fr
DTSTART;TZID=Europe/Paris;VALUE=DATE:20260608
DTEND;TZID=Europe/Paris;VALUE=DATE:20260613
DTSTAMP:20260210T133907Z
URL:https://w3.insp.upmc.fr/events/forum-des-microscopies-a-sonde-locale-d
 omaine-de-saint-paul-saint-remy-les-chevreuse-8-12-06-26/
SUMMARY:Forum des Microscopies à Sonde Locale - Domaine de Saint-Paul\, Sa
 int-Rémy-lès-Chevreuse - 8-12/06/26
DESCRIPTION:27e édition de ce rendez-vous majeur de la communauté francop
 hone ! Le Forum est un lieu d'échange convivial entre experts et novices 
 (AFM\, STM\, SNOM et techniques dérivées). Il couvre un large spectre al
 lant de la physique et l’ingénierie à la chimie et la biologie. Co-org
 anisé par Hervé Cruguel et Mathieu Mivelle de l'INSP.\n\nAu programme\n
 \n 	Conférences &amp\; Posters : Des études fondamentales aux applicatio
 ns industrielles.\n 	Démonstrations Industrielles : Rencontrez les fabric
 ants et testez les dernières\ninnovations sur place.\n 	Tutoriels &amp\; 
 Travaux Pratiques : Des sessions dédiées pour approfondir vos\nconnaissa
 nces\, avec notamment :\n\n\n 	Le couplage lumière / sondes locales\n 	Ma
 gnétisme (sous champ)\n 	La magnétométrie par centre NV\n 	Les proprié
 tés nanomécaniques d’échantillons biologiques\n\nDates à retenir\n\n
  	6 mars 2026 : Date limite de soumission des résumés\n 	31 mars 2026 : 
 Fin du tarif réduit (Hébergements sur place limités !)\n 	30 avril 2026
  : Clôture définitive des inscriptions\n 	8 juin (13 h) au 12 juin (12 h
 ) 2026 : Déroulement du Forum\n\nInscriptions\n\nA propos du forum 
ATTACH;FMTTYPE=image/jpeg:https://w3.insp.upmc.fr/wp-content/uploads/2026/
 02/Forum_Micro.jpg
CATEGORIES:Colloques/Colloqiums
LOCATION:Domaine de Saint-Paul\, 102 route de Limours\, Saint-Rémy-lès-Ch
 evreuse\, France\, 78470 \, IDF\, France
X-APPLE-STRUCTURED-LOCATION;VALUE=URI;X-ADDRESS=102 route de Limours\, Sain
 t-Rémy-lès-Chevreuse\, France\, 78470 \, IDF\, France;X-APPLE-RADIUS=100
 ;X-TITLE=Domaine de Saint-Paul:geo:0,0
END:VEVENT
BEGIN:VTIMEZONE
TZID:Europe/Paris
X-LIC-LOCATION:Europe/Paris
BEGIN:DAYLIGHT
DTSTART:20260329T030000
TZOFFSETFROM:+0100
TZOFFSETTO:+0200
TZNAME:CEST
END:DAYLIGHT
END:VTIMEZONE
END:VCALENDAR